BEGIN:VCALENDAR
VERSION:2.0
PRODID:-//InvisionCommunity Events 4.7.12//EN
METHOD:PUBLISH
CALSCALE:GREGORIAN
REFRESH-INTERVAL:PT15M
X-PUBLISHED-TTL:PT15M
X-WR-CALNAME:TG Events
NAME:TG Events
BEGIN:VTIMEZONE
TZID:Europe/London
TZURL:http://tzurl.org/zoneinfo/Europe/London
X-LIC-LOCATION:Europe/London
BEGIN:DAYLIGHT
TZOFFSETFROM:+0000
TZOFFSETTO:+0100
TZNAME:BST
DTSTART:20210328T020000Z
RRULE:FREQ=YEARLY;BYMONTH=3;BYDAY=-1SU
END:DAYLIGHT
BEGIN:STANDARD
TZOFFSETFROM:+0100
TZOFFSETTO:+0000
TZNAME:GMT
DTSTART:20211031T020000Z
RRULE:FREQ=YEARLY;BYMONTH=10;BYDAY=-1SU
END:STANDARD
END:VTIMEZONE
BEGIN:VEVENT
SUMMARY:Racing Event for Murray and Sabine
DTSTAMP:20210329T205443Z
SEQUENCE:0
UID:88-5-09a8d608fc5485861fab4dabaee08744@tacticalgaming.net
ORGANIZER;CN="Guest":no-reply@tac
	ticalgaming.net
DESCRIPTION:\n	Racing night in honor of Murray Walker and Sabine Schmitz
	 who passed away in March.\n\n\n\n	There will be a moment of silence and t
	he following is the race schedule:\n\n\n\n	 \n\n\n\n	Race One \n\n\n\n	
	Nürburgring Ring 2 Laps in a Ford Transit Van  \n\n\n\n	Race Two \n\n\
	n\n	Endurance Race \n\n\n\n	GT Cars   \n\n\n\n	 \n\n\n\n	For more det
	ails\, please go here or contact @Trekboy101\, @TG SeanTuc4\, or @TG Sea
	nTuc2.\n\n
DTSTART:20210410T190000Z
END:VEVENT
END:VCALENDAR
